BEGIN:VCALENDAR
VERSION:2.0
PRODID:-//Center of Governance &amp; Digitalization - ECPv6.6.0.2//NONSGML v1.0//EN
CALSCALE:GREGORIAN
METHOD:PUBLISH
X-ORIGINAL-URL:https://cgd.ibc-institute.id
X-WR-CALDESC:Events for Center of Governance &amp; Digitalization
REFRESH-INTERVAL;VALUE=DURATION:PT1H
X-Robots-Tag:noindex
X-PUBLISHED-TTL:PT1H
BEGIN:VTIMEZONE
TZID:UTC
BEGIN:STANDARD
TZOFFSETFROM:+0000
TZOFFSETTO:+0000
TZNAME:UTC
DTSTART:20250101T000000
END:STANDARD
END:VTIMEZONE
BEGIN:VEVENT
DTSTART;VALUE=DATE:20250819
DTEND;VALUE=DATE:20250820
DTSTAMP:20260419T134144
CREATED:20250820T030551Z
LAST-MODIFIED:20250820T030551Z
UID:1031-1755561600-1755647999@cgd.ibc-institute.id
SUMMARY:Indonesia Digital Bank Summit 2025
DESCRIPTION:This initiative aims to raise public awareness of the dangers of fraud and the increasingly sophisticated practices of illegal financial activities in the digital era. It also serves as a platform to enhance digital literacy and strengthen consumer protection—two critical pillars in fostering trust in technology-based financial services. \nIDBS 2025 is expected to act as a strategic forum for developing sustainable policies and innovations in digital banking\, while bringing together stakeholders across sectors to foster meaningful collaboration in building a secure\, inclusive\, and competitive digital finance ecosystem. \nThe CEO of the Indonesian Business Council (IBC) will take part as one of the panelists in the upcoming session titled “The Great Enabler: Digital Finance Solutions for Real Sector Transformation.” This forum will highlight the critical role of digital finance in driving efficiency\, inclusivity\, and resilience across the real sector.
URL:https://cgd.ibc-institute.id/event/indonesia-digital-bank-summit-2025/
LOCATION:Hotel Raffles Jakarta
ATTACH;FMTTYPE=image/png:https://cgd.ibc-institute.id/wp-content/uploads/2025/08/Poster-IDBS-2025.png
END:VEVENT
END:VCALENDAR